BEGIN:VCALENDAR
VERSION:2.0
PRODID:-//West Point High School - ECPv6.15.17.1//NONSGML v1.0//EN
CALSCALE:GREGORIAN
METHOD:PUBLISH
X-ORIGINAL-URL:https://westpoint.tuhsd.org
X-WR-CALDESC:Events for West Point High School
REFRESH-INTERVAL;VALUE=DURATION:PT1H
X-Robots-Tag:noindex
X-PUBLISHED-TTL:PT1H
BEGIN:VTIMEZONE
TZID:America/Phoenix
BEGIN:STANDARD
TZOFFSETFROM:-0700
TZOFFSETTO:-0700
TZNAME:MST
DTSTART:20240101T000000
END:STANDARD
END:VTIMEZONE
BEGIN:VEVENT
DTSTART;TZID=America/Phoenix:20250724T080000
DTEND;TZID=America/Phoenix:20250724T120000
DTSTAMP:20260420T101358
CREATED:20250720T214926Z
LAST-MODIFIED:20250720T214926Z
UID:10000212-1753344000-1753358400@westpoint.tuhsd.org
SUMMARY:Freshman Laptop Distribution
DESCRIPTION:
URL:https://westpoint.tuhsd.org/calendar-event/freshman-laptop-distribution-2
LOCATION:Gym
END:VEVENT
BEGIN:VEVENT
DTSTART;TZID=America/Phoenix:20250724T180000
DTEND;TZID=America/Phoenix:20250724T190000
DTSTAMP:20260420T101358
CREATED:20250720T215037Z
LAST-MODIFIED:20250720T215037Z
UID:10000213-1753380000-1753383600@westpoint.tuhsd.org
SUMMARY:Freshman Orientation Meeting
DESCRIPTION:
URL:https://westpoint.tuhsd.org/calendar-event/freshman-orientation-meeting
LOCATION:Community Center
END:VEVENT
END:VCALENDAR